BEGIN:VCALENDAR
VERSION:2.0
PRODID:http://www.egotec.com/
METHOD:PUBLISH
BEGIN:VTIMEZONE
X-LIC-LOCATION:Europe/Berlin
TZID:Europe/Berlin
END:VTIMEZONE
BEGIN:VEVENT
CREATED:20260313T133955Z
SUMMARY:Nanophotonic simulations using the boundary element method
DTSTART:20260424T141500Z
DTEND:20260424T154500Z
LOCATION:Präsenz und Online
DESCRIPTION:Nanophotonic simulations using the boundary element method\n\nLecture by Prof. Dr. Ulrich Hohenester from University Graz\n\nhttps://www.asp.uni-jena.de/17237/nanophotonic-simulations-using-the-boundary-element-method\n\n\nAbbeanum Hörsaal 1, Fröbelstieg 1, Jena\n\nLivestream\nhttps://online.mmz.uni-jena.de/beta/livestream/?hsid=2251_hsabb1
END:VEVENT
END:VCALENDAR
